BEGIN:VCALENDAR
VERSION:2.0
PRODID:-//eventon.com NONSGML v1.0//EN
CALSCALE:GREGORIAN
METHOD:PUBLISH
BEGIN:VEVENT
UID:69e73af3c2146
DTSTAMP:20260421T085307Z
DTSTART:20260321T080000Z
DTEND:20260321T150000Z
LOCATION:Kath. Pfarrheim Pfaffenhofen/Ilm Scheyerer Str. 2\,  85276 Pfaffenhofen/Ilm
SUMMARY:Ehe.wir.heiraten
DESCRIPTION:Sie wollen kirchlich heiraten? Wir freuen uns mit Ihnen! Auf Ih
 rem gemeinsamen Weg und in der Vorbereitung auf die kirchliche Trauung biet
 en wir einen Tag an\,  an dem Sie: Anregungen für eine gelingende Ehe erha
 lten und Aspekte für die eigene Partnerschaft entdecken können\,  sich mi
 t der Bedeutung des Eheversprechens und[..]\nhttps://hochzeit-kirchlich.de/
 events/ehe-wir-heiraten-12/
URL:https://hochzeit-kirchlich.de/events/ehe-wir-heiraten-12/
END:VEVENT
END:VCALENDAR