BEGIN:VCALENDAR
VERSION:2.0
PRODID:-//eventon.com NONSGML v1.0//EN
CALSCALE:GREGORIAN
METHOD:PUBLISH
BEGIN:VEVENT
UID:69eb633941c0f
DTSTAMP:20260424T123401Z
DTSTART:20260301T090000Z
DTEND:20260301T160000Z
LOCATION:
SUMMARY:AUSGEBUCHT! --- EHE.WIR.HEIRATEN - ONLINE
DESCRIPTION:Liebes Hochzeitspaar\,  Sie bereiten sich auf Ihre kirchliche H
 ochzeit vor. Wir freuen uns mit Ihnen und laden Sie ein\,  an einem Seminar
  zur Ehevorbereitung teilzunehmen. Nehmen Sie sich Zeit im Austausch zu zwe
 it\,  mit anderen Paaren und mit unseren Referentinnen und Referenten der B
 edeutung des Eheversprechens und einer christlichen Ehe[..]\nhttps://hochze
 it-kirchlich.de/events/ehe-wir-heiraten-online-3/
URL:https://hochzeit-kirchlich.de/events/ehe-wir-heiraten-online-3/
END:VEVENT
END:VCALENDAR