BEGIN:VCALENDAR
VERSION:2.0
PRODID:-//eventon.com NONSGML v1.0//EN
CALSCALE:GREGORIAN
METHOD:PUBLISH
BEGIN:VEVENT
UID:69ec9da1da009
DTSTAMP:20260425T105529Z
DTSTART:20260620T090000Z
DTEND:20260620T160000Z
LOCATION:Pfarrheim St. Magnus Schwabenstr. 63\,  87616 Marktoberdorf
SUMMARY:EHE.WIR.HEIRATEN
DESCRIPTION:Schön\,  dass Sie sich entschlossen haben zu heiraten. Es gibt
  viele offene Fragen in den Monaten vor der Hochzeit. Wir möchten Ihnen an
  diesem Tag die Gelegenheit geben\,  sich über die kirchliche Trauung geme
 insam Gedanken zu machen: Was versprechen wir uns da eigentlich? Was ist de
 r Mehrwert einer kirchlichen Trauung?[..]\nhttps://hochzeit-kirchlich.de/ev
 ents/ehe-wir-heiraten-ehevorbereitungsseminar-in-marktoberdorf-4/
URL:https://hochzeit-kirchlich.de/events/ehe-wir-heiraten-ehevorbereitungsseminar-in-marktoberdorf-4/
END:VEVENT
END:VCALENDAR