BEGIN:VCALENDAR
VERSION:2.0
PRODID:-//eventon.com NONSGML v1.0//EN
CALSCALE:GREGORIAN
METHOD:PUBLISH
BEGIN:VEVENT
UID:69eb064728e27
DTSTAMP:20260424T055727Z
DTSTART:20260228T080000Z
DTEND:20260228T150000Z
LOCATION:Haus St. Martin Spitaltor 4\,  87600 Kaufbeuren
SUMMARY:EHE.WIR.HEIRATEN
DESCRIPTION:Schön\,  dass Sie sich entschlossen haben zu heiraten. Es gibt
  viele offene Fragen in den Monaten vor der Hochzeit. Wir möchten Ihnen an
  diesem Tag die Gelegenheit geben\,  sich über die kirchliche Trauung geme
 insam Gedanken zu machen: Was versprechen wir uns da eigentlich? Was ist de
 r Mehrwert einer kirchlichen Trauung?[..]\nhttps://hochzeit-kirchlich.de/ev
 ents/ehe-wir-heiraten-ehevorbereitungsseminar-in-kaufbeuren/
URL:https://hochzeit-kirchlich.de/events/ehe-wir-heiraten-ehevorbereitungsseminar-in-kaufbeuren/
END:VEVENT
END:VCALENDAR