BEGIN:VCALENDAR
VERSION:2.0
PRODID:-//eventon.com NONSGML v1.0//EN
CALSCALE:GREGORIAN
METHOD:PUBLISH
BEGIN:VEVENT
UID:69e853bd04e66
DTSTAMP:20260422T045109Z
DTSTART:20260201T090000Z
DTEND:20260201T160000Z
LOCATION:
SUMMARY:Ehe.wir.heiraten – Ein Online-Tagesseminar -ausgebucht -
DESCRIPTION:Ein Online-Tagesseminar Sie wollen in nächster Zeit kirchlich 
 heiraten? Wir freuen uns mit Ihnen! In dieser Vorbereitungszeit tut es als 
 Paar gut\,  wertvolle Zeit miteinander zu teilen und innezuhalten\,  um sic
 h auf das Wesentliche der eigenen Beziehung zu konzentrieren. Dazu bieten w
 ir Ihnen mit diesem Online-Seminar einen inspirierenden Tag\,  an[..]\nhttp
 s://hochzeit-kirchlich.de/events/ehe-wir-heiraten-ein-online-tagesseminar-2
 /
URL:https://hochzeit-kirchlich.de/events/ehe-wir-heiraten-ein-online-tagesseminar-2/
END:VEVENT
END:VCALENDAR