BEGIN:VCALENDAR
VERSION:2.0
PRODID:-//eventon.com NONSGML v1.0//EN
CALSCALE:GREGORIAN
METHOD:PUBLISH
BEGIN:VEVENT
UID:69e56bec5fb43
DTSTAMP:20260419T235732Z
DTSTART:20250607T090000Z
DTEND:20250608T150000Z
LOCATION:Schwarzenberghütte (DAV) Bad Hindelang-Hinterstein
SUMMARY:ehe.wir.heiraten - Ehevorbereitung in den Bergen﻿
DESCRIPTION:Zweitagesseminar 7. &#8211; 8.06. 2025\,  09.00 Uhr – ca. 15.
 00 Uhr Schwarzenberghütte (DAV)\,  Bad Hindelang-Hinterstein Referentin: 
 Pastoralreferentin Marina Sommerstorfer 124\, &#8211; € pro Paar (für DA
 V-Mitglieder)\,  sonst 148\, &#8211; € pro Paar. (Kurs / Übernachtung im
  Bettenlager / Halbpension) Es gelten die Geschäftsbedingungen der Ehe- un
 d Familienseelsorge des Bistums Augsburg. Anmeldung bis 19.05.2025[..]\nhtt
 ps://hochzeit-kirchlich.de/events/ehe-wir-heiraten-ehevorbereitung-in-den-b
 ergen/
URL:https://hochzeit-kirchlich.de/events/ehe-wir-heiraten-ehevorbereitung-in-den-bergen/
END:VEVENT
END:VCALENDAR