BEGIN:VCALENDAR
VERSION:2.0
PRODID:-//eventon.com NONSGML v1.0//EN
CALSCALE:GREGORIAN
METHOD:PUBLISH
BEGIN:VEVENT
UID:69ed206c2cbe6
DTSTAMP:20260425T201332Z
DTSTART:20251109T080000Z
DTEND:20251109T153000Z
LOCATION:Haus Maria Brünnlein - Wemding Oettinger Str. 103 86650 Wemding
SUMMARY:ehe. wir. heiraten.
DESCRIPTION:Liebes Brautpaar\,  die letzten Wochen vor der Hochzeit bringen
  eine Fülle von Arbeit und Überlegungen mit sich: Sie bereiten den Hochze
 itstag vor\,  laden Ihre Gäste ein… Sie haben sich viele Gedanken zu Ihr
 er Partnerschaft und künftigen Ehe gemacht. Nun wollen Sie Ihren gemeinsam
 en Weg in der Feier der Trauung bekräftigen[..]\nhttps://hochzeit-kirchlic
 h.de/events/ehe-wir-heiraten-5/
URL:https://hochzeit-kirchlich.de/events/ehe-wir-heiraten-5/
END:VEVENT
END:VCALENDAR