BEGIN:VCALENDAR
VERSION:2.0
PRODID:-//eventon.com NONSGML v1.0//EN
CALSCALE:GREGORIAN
METHOD:PUBLISH
BEGIN:VEVENT
UID:69e73c6c9a55d
DTSTAMP:20260421T085924Z
DTSTART:20251012T090000Z
DTEND:20251012T160000Z
LOCATION:Tagungshaus Maria Beinberg Beinberg 3\,  86565 Gachenbach
SUMMARY:Ehe.Wir.Heiraten
DESCRIPTION:Sie wollen kirchlich heiraten? Wir freuen uns mit Ihnen! Auf Ih
 rem gemeinsamen Weg und in der Vorbereitung auf die kirchliche Trauung biet
 en wir einen Tag an\,  an dem Sie: Anregungen für eine gelingende Ehe erha
 lten und Aspekte für die eigene Partnerschaft entdecken können\,  sich mi
 t der Bedeutung des Eheversprechens und[..]\nhttps://hochzeit-kirchlich.de/
 events/ehe-wir-heiraten-96/
URL:https://hochzeit-kirchlich.de/events/ehe-wir-heiraten-96/
END:VEVENT
END:VCALENDAR