BEGIN:VCALENDAR
VERSION:2.0
PRODID:-//eventon.com NONSGML v1.0//EN
CALSCALE:GREGORIAN
METHOD:PUBLISH
BEGIN:VEVENT
UID:69e6c38d52019
DTSTAMP:20260421T002341Z
DTSTART:20240427T200000Z
DTEND:20240428T033000Z
LOCATION:Pfarrheim St. Michael\,  Mittelberg 87466 Oy-Mittelberg\,  Kirchlinde 12
SUMMARY:"Ehe.Wir.Heiraten" - (Oy-) Mittelberg\,  Pfarrheim St. Michael
DESCRIPTION:Tagesseminar 27.04.2024\,  09.00 – ca. 16.30 Uhr Pfarrheim St
 . Michael\,  Mittelberg\,  Kirchlinde 12\,  87466 Oy-Mittelberg Referenten:
  Pfarrer Roland Högner und Pastoralreferentin Marina Sommerstorfer Anmeldu
 ng bis spätestens eine Woche vor dem Termin mit dem untenstehenden Formula
 r bei: Ehe- und Familienseelsorge\,  Außenstelle Kempten Frühlingstr. 27
 \,   87439 Kempten Tel. 0831 697283312 E-Mail: efs-kempten@bistum-augsbu
 rg.de Darüber werden wir[..]\nhttps://hochzeit-kirchlich.de/events/ehe-wir
 -heiraten-oy-mittelberg-pfarrheim-st-michael/
URL:https://hochzeit-kirchlich.de/events/ehe-wir-heiraten-oy-mittelberg-pfarrheim-st-michael/
END:VEVENT
END:VCALENDAR