BEGIN:VCALENDAR
VERSION:2.0
PRODID:-//eventon.com NONSGML v1.0//EN
CALSCALE:GREGORIAN
METHOD:PUBLISH
BEGIN:VEVENT
UID:69e90d7449a67
DTSTAMP:20260422T180332Z
DTSTART:20240309T200000Z
DTEND:20240310T033000Z
LOCATION:Pfarrheim St. Georg\,  Wasserburg Halbinselstr. 73
SUMMARY:"Ehe.Wir.Heiraten" - Ein Tag für Paare\,  die sich kirchlich trauen in St. Georg\,  Wasserburg am Bodensee
DESCRIPTION:Tagesseminar 09.03.2024\,  09.00 – ca. 16.30 Uhr Katholisches
  Pfarrheim St. Georg\,  Halbinselstr. 73\,  88142  Wasserburg Unkostenbeit
 rag: 20 € pro Paar Es besteht die Möglichkeit gemeinsam Mittagessen zu g
 ehen. Die Kosten hierfür sind selbst zu tragen. Referenten: Dekan Ralf Gü
 hrer und Pastoralreferentin Marina Sommerstorfer Anmeldung bis spätestens
  eine Woche vor dem Termin[..]\nhttps://hochzeit-kirchlich.de/events/ehe-wi
 r-heiraten-ein-tag-fuer-paare-die-sich-kirchlich-trauen-in-st-georg-wasserb
 urg-am-bodensee-09-03-2024/
URL:https://hochzeit-kirchlich.de/events/ehe-wir-heiraten-ein-tag-fuer-paare-die-sich-kirchlich-trauen-in-st-georg-wasserburg-am-bodensee-09-03-2024/
END:VEVENT
END:VCALENDAR