BEGIN:VCALENDAR
VERSION:2.0
PRODID:-//eventon.com NONSGML v1.0//EN
CALSCALE:GREGORIAN
METHOD:PUBLISH
BEGIN:VEVENT
UID:69e960f1e0467
DTSTAMP:20260422T235945Z
DTSTART:20240921T200000Z
DTEND:20240922T030000Z
LOCATION:
SUMMARY:AUSGEBUCHT Ehe.Wir.Heiraten - Online
DESCRIPTION:Sie wollen in nächster Zeit kirchlich heiraten? Wir freuen uns
  mit Ihnen! In dieser Vorbereitungszeit tut es als Paar gut\,  wertvolle Ze
 it miteinander zu teilen und innezuhalten\,  um sich auf das Wesentliche de
 r eigenen Beziehung zu konzentrieren. Dazu bieten wir Ihnen mit diesem Onli
 ne-Seminar einen inspirierenden Tag\,  an dem Sie[..]\nhttps://hochzeit-kir
 chlich.de/events/ehe-wir-heiraten-92/
URL:https://hochzeit-kirchlich.de/events/ehe-wir-heiraten-92/
END:VEVENT
END:VCALENDAR