BEGIN:VCALENDAR
VERSION:2.0
PRODID:-//eventon.com NONSGML v1.0//EN
CALSCALE:GREGORIAN
METHOD:PUBLISH
BEGIN:VEVENT
UID:69e546ffacda4
DTSTAMP:20260419T211959Z
DTSTART:20240303T200000Z
DTEND:20240304T033000Z
LOCATION:Haus Maria Brünnlein - Wemding Oettinger Str. 103 86650 Wemding
SUMMARY:ehe. wir. heiraten.
DESCRIPTION:Liebes Brautpaar\,  die letzten Wochen vor der Hochzeit bringen
  eine Fülle von Arbeit und Überlegungen mit sich: Sie bereiten den Hochze
 itstag vor\,  laden Ihre Gäste ein… Sie haben sich viele Gedanken zu Ihr
 er Partnerschaft und künftigen Ehe gemacht. Nun wollen Sie Ihren gemeinsam
 en Weg in der Feier der Trauung bekräftigen[..]\nhttps://hochzeit-kirchlic
 h.de/events/ehe-wir-heiraten-03-2024_wemding/
URL:https://hochzeit-kirchlich.de/events/ehe-wir-heiraten-03-2024_wemding/
END:VEVENT
END:VCALENDAR