BEGIN:VCALENDAR
VERSION:2.0
PRODID:-//eventon.com NONSGML v1.0//EN
CALSCALE:GREGORIAN
METHOD:PUBLISH
BEGIN:VEVENT
UID:69e5e39e4c51c
DTSTAMP:20260420T082814Z
DTSTART:20250322T050000Z
DTEND:20250324T000000Z
LOCATION:Wies 20\,  86989 Steingaden
SUMMARY:Ehe.wir.heiraten – Ein Wochenende für Paare\,  die sich kirchlich trauen -  86989 Wies/Steingaden
DESCRIPTION:Ehe.wir.heiraten – Ein Wochenende für Paare\,  die sich kirc
 hlich trauen &#8211; Wir heiraten mit Gottes Segen KLVHS-Brautleuteseminar 
 Leitung: Sylvia Hindelang und Brigitte Mayr-Seidl\,   KLVHS Wies Referent:
  Pfarrer i. R. Alois Linder Veranstaltungsort und Anmeldung bei: Kath. Land
 volkshochschule Wies/Steingaden Wies 20\,  86989 Steingaden email: info@lvh
 swies.de https://www.lvhswies.de/veranstaltungen/details/1100/ehe-wir-heira
 tenein-wochenende-fr-paare-die-sich-kirchlich-trauen &nbsp; Kosten:  Info 
 beim Veranstalter[..]\nhttps://hochzeit-kirchlich.de/events/ehe-wir-heirate
 n-ein-wochenende-fuer-paare-die-sich-kirchlich-trauen-86989-wies-steingaden
 -3/
URL:https://hochzeit-kirchlich.de/events/ehe-wir-heiraten-ein-wochenende-fuer-paare-die-sich-kirchlich-trauen-86989-wies-steingaden-3/
END:VEVENT
END:VCALENDAR