BEGIN:VCALENDAR
VERSION:2.0
PRODID:-//eventon.com NONSGML v1.0//EN
CALSCALE:GREGORIAN
METHOD:PUBLISH
BEGIN:VEVENT
UID:69eaa9d63b95d
DTSTAMP:20260423T232302Z
DTSTART:20240204T200000Z
DTEND:20240205T040000Z
LOCATION:Erzabtei 1\,  St. Ottilien\,  86941
SUMMARY:Ehe.wir heiraten - Ein Tag für Paare\,  die sich kirchlich trauen - 86941 St. Ottilien
DESCRIPTION:Ehe.wir.heiraten &#8211; Ein Tag für Paare\,  die sich kirchli
 ch trauen 4.2.24\,  9.00 &#8211; ca. 17.00 Uhr Was ist uns für die gemeins
 ame Beziehung wichtig? Wie gehen wir als Eheleute mit Verschiedenheiten um
 ? Wie gestalten wir eine gemeinsame Kommunikationsstruktur? Was bedeutet d
 ie Ehe als Sakrament? Wie können wir unsere kirchliche Trauung gestalten
 \,  damit der Tag[..]\nhttps://hochzeit-kirchlich.de/events/ehe-wir-heirate
 n-ein-tag-fuer-paare-die-sich-kirchlich-trauen-86941-st-ottilien-7/
URL:https://hochzeit-kirchlich.de/events/ehe-wir-heiraten-ein-tag-fuer-paare-die-sich-kirchlich-trauen-86941-st-ottilien-7/
END:VEVENT
END:VCALENDAR