BEGIN:VCALENDAR
VERSION:2.0
PRODID:-//eventon.com NONSGML v1.0//EN
CALSCALE:GREGORIAN
METHOD:PUBLISH
BEGIN:VEVENT
UID:69e69e75edbdb
DTSTAMP:20260420T214525Z
DTSTART:20240316T203000Z
DTEND:20240317T040000Z
LOCATION:86925 Asch\,  Dorfstraße 34a
SUMMARY:Ehe.wir.heiraten – Ein Tag für Paare\,  die sich kirchlich trauen - 86925 Asch
DESCRIPTION:Ehe.wir.heiraten – Ein Tag für Paare\,  die sich kirchlich t
 rauen &#8211; 86925 Asch 16.3.24\,  9.30 Uhr &#8211; ca. 17.00 Uhr Referent
 : Hubert Lüpken und Dekan Oliver Grimm Veranstaltungsort: Haus der Begegn
 ung\,  86925 Asch\,  Dorfstraße 34a Kosten: für Mittagessen und ggf. Kaff
 ee Anmeldung bis spätestens eine Woche vor dem Termin bei: Seelsorgeamt[..
 ]\nhttps://hochzeit-kirchlich.de/events/ehe-wir-heiraten-ein-tag-fuer-paare
 -die-sich-kirchlich-trauen-86925-asch/
URL:https://hochzeit-kirchlich.de/events/ehe-wir-heiraten-ein-tag-fuer-paare-die-sich-kirchlich-trauen-86925-asch/
END:VEVENT
END:VCALENDAR